BEGIN:VCALENDAR
VERSION:2.0
PRODID:-//wp-events-plugin.com//7.2.3.1//EN
BEGIN:VEVENT
UID:200@lsvsa.de
DTSTART:20261128T000000Z
DTEND:20261128T000000Z
DTSTAMP:20260210T070147Z
URL:https://lsvsa.de/events/2-adventschwimmen-in-halle-saale/
SUMMARY:2. Adventschwimmen in Halle (Saale) inkl. Aufnahmetest Teil 1 und V
 erbleibetest
DESCRIPTION:
CATEGORIES:Schwimmen
END:VEVENT
END:VCALENDAR