BEGIN:VCALENDAR
VERSION:2.0
PRODID:-//wp-events-plugin.com//7.2.3.1//EN
BEGIN:VEVENT
UID:208@lsvsa.de
DTSTART:20260411T000000Z
DTEND:20260411T000000Z
DTSTAMP:20260128T080110Z
URL:https://lsvsa.de/events/28-sprintertag-halberstaedter-sv/
SUMMARY:28. Sprintertag (Halberstädter SV)
DESCRIPTION:
CATEGORIES:Schwimmen
END:VEVENT
END:VCALENDAR