BEGIN:VCALENDAR
VERSION:2.0
PRODID:-//wp-events-plugin.com//7.2.3.1//EN
BEGIN:VEVENT
UID:20@lsvsa.de
DTSTART;VALUE=DATE:20240913
DTEND;VALUE=DATE:20240916
DTSTAMP:20240626T074413Z
URL:https://lsvsa.de/events/5-schwimmsport-akademie-des-lsvsa/
SUMMARY:5. Schwimmsport-Akademie des LSVSA
DESCRIPTION:Informationen
CATEGORIES:Bildung
LOCATION:Landessportschule Sachsen-Anhalt\, Arendseer Straße 4\, Hansestad
 t Osterburg\, 39606\, Deutschland
X-APPLE-STRUCTURED-LOCATION;VALUE=URI;X-ADDRESS=Arendseer Straße 4\, Hanse
 stadt Osterburg\, 39606\, Deutschland;X-APPLE-RADIUS=100;X-TITLE=Landesspo
 rtschule Sachsen-Anhalt:geo:0,0
END:VEVENT
END:VCALENDAR