BEGIN:VCALENDAR
VERSION:2.0
PRODID:-//wp-events-plugin.com//7.2.3.1//EN
BEGIN:VEVENT
UID:37@lsvsa.de
DTSTART:20241123T100000Z
DTEND:20241123T100000Z
DTSTAMP:20240618T130747Z
URL:https://lsvsa.de/events/58-nachwuchsschwimmen-des-sc-magdeburg/
SUMMARY:58. Nachwuchsschwimmen des SC Magdeburg
DESCRIPTION:Ausschreibung
ATTACH;FMTTYPE=image/jpeg:https://i0.wp.com/lsvsa.de/wp-content/uploads/20
 24/03/1-1.png?fit=1051%2C638&ssl=1
CATEGORIES:BFG,Schwimmen
LOCATION:Schwimmhalle Olvenstedt\, Joh.-Göderitz-Str. 113\, Magdeburg\, 39
 130\, Deutschland
X-APPLE-STRUCTURED-LOCATION;VALUE=URI;X-ADDRESS=Joh.-Göderitz-Str. 113\, M
 agdeburg\, 39130\, Deutschland;X-APPLE-RADIUS=100;X-TITLE=Schwimmhalle Olv
 enstedt:geo:0,0
END:VEVENT
END:VCALENDAR