BEGIN:VCALENDAR
VERSION:2.0
PRODID:-//wp-events-plugin.com//7.2.3.1//EN
BEGIN:VEVENT
UID:169@lsvsa.de
DTSTART;VALUE=DATE:20260418
DTEND;VALUE=DATE:20260420
DTSTAMP:20260211T094058Z
URL:https://lsvsa.de/events/bildungswochenende/
SUMMARY:Bildungswochenende zur DOSB-Lizenz-Verlängerung
DESCRIPTION:Informationen und Anmeldung
CATEGORIES:Bildung
LOCATION:Halle (S.)\, \, 
X-APPLE-STRUCTURED-LOCATION;VALUE=URI;X-ADDRESS=\, ;X-APPLE-RADIUS=100;X-TI
 TLE=Halle (S.):geo:0,0
END:VEVENT
END:VCALENDAR