BEGIN:VCALENDAR
VERSION:2.0
PRODID:-//wp-events-plugin.com//7.2.3.1//EN
BEGIN:VEVENT
UID:68@lsvsa.de
DTSTART:20241204T190000Z
DTEND:20241204T211500Z
DTSTAMP:20241112T124351Z
URL:https://lsvsa.de/events/crowdfunding-eine-neue-art-geld-zu-sammeln/
SUMMARY:Crowdfunding – Eine neue Art Geld zu sammeln
DESCRIPTION:Mi.\, 04. Dezember 19:00 bis 21:15 Uhr – 3 LE – Crowdfundin
 g – Eine neue Art Geld zu sammeln\n\nFrei übersetzt kann man von einer 
 „Finanzierung durch einen Haufen Leute“ sprechen. Selbst bei kleinen B
 eträgen\, erhält der Geldgeber eine Gegenleistung. Dies kann der freie E
 intritt zum nächsten Heimspiel\, ein Mannschaftstraining für die Belegsc
 haft oder ähnliche Aktionen sein. Der Kreativität bei der Suche nach gee
 igneten Aktionen sind keine Grenzen gesetzt.\n\n&nbsp\;\n\nLink zur Anmeld
 ung
CATEGORIES:Bildung
END:VEVENT
END:VCALENDAR