BEGIN:VCALENDAR
VERSION:2.0
PRODID:-//wp-events-plugin.com//7.2.3.1//EN
BEGIN:VEVENT
UID:220@lsvsa.de
DTSTART:20260609T000000Z
DTEND:20260613T000000Z
DTSTAMP:20260210T065223Z
URL:https://lsvsa.de/events/deutsche-jahrgangsmeisterschaften-in-berlin-2/
SUMMARY:Deutsche Jahrgangsmeisterschaften in Berlin
DESCRIPTION:
CATEGORIES:Schwimmen
END:VEVENT
END:VCALENDAR