BEGIN:VCALENDAR
VERSION:2.0
PRODID:-//wp-events-plugin.com//7.2.3.1//EN
BEGIN:VEVENT
UID:104@lsvsa.de
DTSTART;VALUE=DATE:20250227
DTEND;VALUE=DATE:20250303
DTSTAMP:20241202T093056Z
URL:https://lsvsa.de/events/deutsche-meisterschaften-a-b-jugend-in-leipzig
 /
SUMMARY:Deutsche Meisterschaften A/B Jugend in Leipzig
DESCRIPTION:
CATEGORIES:Wasserspringen
END:VEVENT
END:VCALENDAR