BEGIN:VCALENDAR
VERSION:2.0
PRODID:-//wp-events-plugin.com//7.2.3.1//EN
BEGIN:VEVENT
UID:41@lsvsa.de
DTSTART;VALUE=DATE:20241130
DTEND;VALUE=DATE:20241202
DTSTAMP:20240424T091847Z
URL:https://lsvsa.de/events/deutschen-mannschaftsmeisterschaften-dms-1-und
 -2-bundesliga/
SUMMARY:Deutschen Mannschaftsmeisterschaften (DMS)\, 1. und 2. Bundesliga
DESCRIPTION:
ATTACH;FMTTYPE=image/jpeg:https://i0.wp.com/lsvsa.de/wp-content/uploads/20
 24/03/1-1.png?fit=1051%2C638&ssl=1
CATEGORIES:Schwimmen
END:VEVENT
END:VCALENDAR