BEGIN:VCALENDAR
VERSION:2.0
PRODID:-//wp-events-plugin.com//7.2.3.1//EN
BEGIN:VEVENT
UID:25@lsvsa.de
DTSTART;VALUE=DATE:20241020
DTEND;VALUE=DATE:20241021
DTSTAMP:20240626T073558Z
URL:https://lsvsa.de/events/dms-masters/
SUMMARY:offener Landesentscheid Sachsen-Anhalt für den 27. DMS der Masters
DESCRIPTION:Ausschreibung
ATTACH;FMTTYPE=image/jpeg:https://i0.wp.com/lsvsa.de/wp-content/uploads/20
 24/03/1-1.png?fit=1051%2C638&ssl=1
CATEGORIES:Masters
LOCATION:Volksschwimmhalle Schönebeck\, Johannes-R.-Becher-Straße 71\, Sc
 hönebeck\, 39218\, Deutschland
X-APPLE-STRUCTURED-LOCATION;VALUE=URI;X-ADDRESS=Johannes-R.-Becher-Straße 
 71\, Schönebeck\, 39218\, Deutschland;X-APPLE-RADIUS=100;X-TITLE=Volkssch
 wimmhalle Schönebeck:geo:0,0
END:VEVENT
END:VCALENDAR