BEGIN:VCALENDAR
VERSION:2.0
PRODID:-//wp-events-plugin.com//7.2.3.1//EN
BEGIN:VEVENT
UID:204@lsvsa.de
DTSTART:20260214T000000Z
DTEND:20260214T000000Z
DTSTAMP:20260128T075516Z
URL:https://lsvsa.de/events/einladungsschwimmfest-der-union-1861-schoenebe
 ck/
SUMMARY:Einladungsschwimmfest (Union 1861 Schönebeck)
DESCRIPTION:
CATEGORIES:Schwimmen
END:VEVENT
END:VCALENDAR