BEGIN:VCALENDAR
VERSION:2.0
PRODID:-//wp-events-plugin.com//7.2.3.1//EN
BEGIN:VEVENT
UID:230@lsvsa.de
DTSTART:20260509T000000Z
DTEND:20260509T000000Z
DTSTAMP:20260323T145309Z
URL:https://lsvsa.de/events/fruehjahrsmeeting-des-koethener-sv-2009-in-koe
 then/
SUMMARY:Frühjahrsmeeting des Köthener SV 2009 in Köthen
DESCRIPTION:
CATEGORIES:Schwimmen
END:VEVENT
END:VCALENDAR