BEGIN:VCALENDAR
VERSION:2.0
PRODID:-//wp-events-plugin.com//7.2.3.1//EN
BEGIN:VEVENT
UID:160@lsvsa.de
DTSTART;VALUE=DATE:20250118
DTEND;VALUE=DATE:20250119
DTSTAMP:20250109T081251Z
URL:https://lsvsa.de/events/lagenmehrkampf-koethener-sv/
SUMMARY:Lagenmehrkampf Köthener SV
DESCRIPTION:Ausschreibung unter https://hidrive.ionos.com/share/24whtcbgab#
 $/Schwimmen/2025
CATEGORIES:Schwimmen
END:VEVENT
END:VCALENDAR