BEGIN:VCALENDAR
VERSION:2.0
PRODID:-//wp-events-plugin.com//7.2.3.1//EN
BEGIN:VEVENT
UID:31@lsvsa.de
DTSTART;VALUE=DATE:20241109
DTEND;VALUE=DATE:20241110
DTSTAMP:20241108T073202Z
URL:https://lsvsa.de/events/landesmeisterschaften-schwimmen-kurzbahn-jugen
 d/
SUMMARY:Landesmeisterschaften Schwimmen Kurzbahn Jugend
DESCRIPTION:Ausschreibung\n\nLivetiming
ATTACH;FMTTYPE=image/jpeg:https://i0.wp.com/lsvsa.de/wp-content/uploads/20
 24/03/1-1.png?fit=1051%2C638&ssl=1
CATEGORIES:Schwimmen
LOCATION:Sportbad Dessau\, Helmut-Kohl-Straße 30\, Dessau-Roßlau OT Dessa
 u\, 06842\, Deutschland
X-APPLE-STRUCTURED-LOCATION;VALUE=URI;X-ADDRESS=Helmut-Kohl-Straße 30\, De
 ssau-Roßlau OT Dessau\, 06842\, Deutschland;X-APPLE-RADIUS=100;X-TITLE=Sp
 ortbad Dessau:geo:0,0
END:VEVENT
END:VCALENDAR