BEGIN:VCALENDAR
VERSION:2.0
PRODID:-//wp-events-plugin.com//7.2.3.1//EN
BEGIN:VEVENT
UID:2@lsvsa.de
DTSTART;VALUE=DATE:20240309
DTEND;VALUE=DATE:20240311
DTSTAMP:20240321T113655Z
URL:https://lsvsa.de/events/norddeutsche-mastersmeisterschaften/
SUMMARY:Norddeutsche Mastersmeisterschaften
DESCRIPTION:Wettkampfdefinitionsdatei\n\nAuschreibung\n\n&nbsp\;\n\nVeranst
 alter: Norddeutscher Schwimmverband e.V.
CATEGORIES:Masters
LOCATION:Schwimm- und Sprunghalle im Europasportpark (SSE)\, Paul-Heyse-Str
 . 26\, Berlin\, 10407\, Deutschland
X-APPLE-STRUCTURED-LOCATION;VALUE=URI;X-ADDRESS=Paul-Heyse-Str. 26\, Berlin
 \, 10407\, Deutschland;X-APPLE-RADIUS=100;X-TITLE=Schwimm- und Sprunghalle
  im Europasportpark (SSE):geo:0,0
END:VEVENT
END:VCALENDAR