BEGIN:VCALENDAR
VERSION:2.0
PRODID:-//wp-events-plugin.com//7.2.3.1//EN
BEGIN:VEVENT
UID:205@lsvsa.de
DTSTART:20260314T000000Z
DTEND:20260314T000000Z
DTSTAMP:20260128T075435Z
URL:https://lsvsa.de/events/offenes-vereinsschwimmfest-des-sv-eisleben-san
 gerhausen/
SUMMARY:offenes Vereinsschwimmfest (SV Eisleben-Sangerhausen)
DESCRIPTION:
CATEGORIES:Schwimmen
END:VEVENT
END:VCALENDAR