BEGIN:VCALENDAR
VERSION:2.0
PRODID:-//wp-events-plugin.com//7.2.3.1//EN
BEGIN:VEVENT
UID:190@lsvsa.de
DTSTART:20260905T000000Z
DTEND:20260905T000000Z
DTSTAMP:20251010T093424Z
URL:https://lsvsa.de/events/sprintmeeting-in-schoenebeck/
SUMMARY:Sprintmeeting in Schönebeck
DESCRIPTION:
CATEGORIES:Schwimmen
END:VEVENT
END:VCALENDAR