BEGIN:VCALENDAR
VERSION:2.0
PRODID:-//wp-events-plugin.com//7.2.3.1//EN
BEGIN:VEVENT
UID:206@lsvsa.de
DTSTART:20260314T000000Z
DTEND:20260314T000000Z
DTSTAMP:20260128T075845Z
URL:https://lsvsa.de/events/veolia-nachwuchswk-der-union-1861-schoenebeck/
SUMMARY:Veolia-NachwuchsWK (Union 1861 Schönebeck)
DESCRIPTION:
CATEGORIES:Schwimmen
END:VEVENT
END:VCALENDAR