BEGIN:VCALENDAR
VERSION:2.0
PRODID:-//wp-events-plugin.com//7.2.3.1//EN
BEGIN:VEVENT
UID:83@lsvsa.de
DTSTART:20250323T100000Z
DTEND:20250323T100000Z
DTSTAMP:20241129T090416Z
URL:https://lsvsa.de/events/wasserball-sv-zwickau-04-sv-halle/
SUMMARY:Wasserball: SV Zwickau 04 - SV Halle
DESCRIPTION:
CATEGORIES:Wasserball
END:VEVENT
END:VCALENDAR