BEGIN:VCALENDAR
VERSION:2.0
PRODID:-//wp-events-plugin.com//7.2.3.1//EN
BEGIN:VEVENT
UID:139@lsvsa.de
DTSTART:20250711T000000Z
DTEND:20250803T000000Z
DTSTAMP:20241206T105415Z
URL:https://lsvsa.de/events/weltmeisterschaften-in-singapur/
SUMMARY:Weltmeisterschaften in Singapur
DESCRIPTION:
CATEGORIES:Schwimmen
END:VEVENT
END:VCALENDAR